BEGIN:VCALENDAR
VERSION:2.0
PRODID:-//Rodrigo Trompete - ECPv6.15.20//NONSGML v1.0//EN
CALSCALE:GREGORIAN
METHOD:PUBLISH
X-ORIGINAL-URL:https://rodrigotrompete.ch
X-WR-CALDESC:Events for Rodrigo Trompete
REFRESH-INTERVAL;VALUE=DURATION:PT1H
X-Robots-Tag:noindex
X-PUBLISHED-TTL:PT1H
BEGIN:VTIMEZONE
TZID:Europe/Zurich
BEGIN:DAYLIGHT
TZOFFSETFROM:+0100
TZOFFSETTO:+0200
TZNAME:CEST
DTSTART:20220327T010000
END:DAYLIGHT
BEGIN:STANDARD
TZOFFSETFROM:+0200
TZOFFSETTO:+0100
TZNAME:CET
DTSTART:20221030T010000
END:STANDARD
BEGIN:DAYLIGHT
TZOFFSETFROM:+0100
TZOFFSETTO:+0200
TZNAME:CEST
DTSTART:20230326T010000
END:DAYLIGHT
BEGIN:STANDARD
TZOFFSETFROM:+0200
TZOFFSETTO:+0100
TZNAME:CET
DTSTART:20231029T010000
END:STANDARD
BEGIN:DAYLIGHT
TZOFFSETFROM:+0100
TZOFFSETTO:+0200
TZNAME:CEST
DTSTART:20240331T010000
END:DAYLIGHT
BEGIN:STANDARD
TZOFFSETFROM:+0200
TZOFFSETTO:+0100
TZNAME:CET
DTSTART:20241027T010000
END:STANDARD
BEGIN:DAYLIGHT
TZOFFSETFROM:+0100
TZOFFSETTO:+0200
TZNAME:CEST
DTSTART:20250330T010000
END:DAYLIGHT
BEGIN:STANDARD
TZOFFSETFROM:+0200
TZOFFSETTO:+0100
TZNAME:CET
DTSTART:20251026T010000
END:STANDARD
END:VTIMEZONE
BEGIN:VEVENT
DTSTART;TZID=Europe/Zurich:20240111T190000
DTEND;TZID=Europe/Zurich:20240112T210000
DTSTAMP:20260419T151723
CREATED:20231209T130906Z
LAST-MODIFIED:20231209T131351Z
UID:1352-1704999600-1705093200@rodrigotrompete.ch
SUMMARY:Christmas oratorio
DESCRIPTION:
URL:https://rodrigotrompete.ch/event/christmas-oratorio/
END:VEVENT
BEGIN:VEVENT
DTSTART;TZID=Europe/Zurich:20240101T100000
DTEND;TZID=Europe/Zurich:20240101T110000
DTSTAMP:20260419T151723
CREATED:20231209T130648Z
LAST-MODIFIED:20231211T083306Z
UID:1350-1704103200-1704106800@rodrigotrompete.ch
SUMMARY:New year concert
DESCRIPTION: 
URL:https://rodrigotrompete.ch/event/new-year-concert/
END:VEVENT
BEGIN:VEVENT
DTSTART;TZID=Europe/Zurich:20231225T153000
DTEND;TZID=Europe/Zurich:20231225T180000
DTSTAMP:20260419T151723
CREATED:20231209T130521Z
LAST-MODIFIED:20231211T083235Z
UID:1348-1703518200-1703527200@rodrigotrompete.ch
SUMMARY:Concert
DESCRIPTION: 
URL:https://rodrigotrompete.ch/event/concert-3/
END:VEVENT
BEGIN:VEVENT
DTSTART;TZID=Europe/Zurich:20231225T110000
DTEND;TZID=Europe/Zurich:20231225T120000
DTSTAMP:20260419T151723
CREATED:20231209T130348Z
LAST-MODIFIED:20231211T083057Z
UID:1346-1703502000-1703505600@rodrigotrompete.ch
SUMMARY:Concert
DESCRIPTION: 
URL:https://rodrigotrompete.ch/event/concert-2/
END:VEVENT
BEGIN:VEVENT
DTSTART;TZID=Europe/Zurich:20231224T220000
DTEND;TZID=Europe/Zurich:20231224T230000
DTSTAMP:20260419T151723
CREATED:20231209T083114Z
LAST-MODIFIED:20231211T083425Z
UID:1302-1703455200-1703458800@rodrigotrompete.ch
SUMMARY:Concert
DESCRIPTION: 
URL:https://rodrigotrompete.ch/event/concert/
LOCATION:Reformierte Kirche Illnau
END:VEVENT
BEGIN:VEVENT
DTSTART;TZID=Europe/Zurich:20231208T190000
DTEND;TZID=Europe/Zurich:20231208T203000
DTSTAMP:20260419T151723
CREATED:20231207T144743Z
LAST-MODIFIED:20231207T193003Z
UID:142-1702062000-1702067400@rodrigotrompete.ch
SUMMARY:Concert 1
DESCRIPTION:
URL:https://rodrigotrompete.ch/event/concert-1/
ATTACH;FMTTYPE=image/jpeg:https://rodrigotrompete.ch/wp-content/uploads/2023/12/IMG-20220130-WA0008.jpg
END:VEVENT
END:VCALENDAR